BEGIN:VCALENDAR
VERSION:2.0
PRODID:-//Lightways - ECPv6.15.20//NONSGML v1.0//EN
CALSCALE:GREGORIAN
METHOD:PUBLISH
X-WR-CALNAME:Lightways
X-ORIGINAL-URL:https://lightways.org
X-WR-CALDESC:Events for Lightways
REFRESH-INTERVAL;VALUE=DURATION:PT1H
X-Robots-Tag:noindex
X-PUBLISHED-TTL:PT1H
BEGIN:VTIMEZONE
TZID:UTC
BEGIN:STANDARD
TZOFFSETFROM:+0000
TZOFFSETTO:+0000
TZNAME:UTC
DTSTART:20250101T000000
END:STANDARD
END:VTIMEZONE
BEGIN:VEVENT
DTSTART;TZID=UTC:20260502T103000
DTEND;TZID=UTC:20260502T123000
DTSTAMP:20260422T122718
CREATED:20250314T135559Z
LAST-MODIFIED:20260421T125542Z
UID:10000385-1777717800-1777725000@lightways.org
SUMMARY:Honoring Mom
DESCRIPTION:Join us to honor your mother\, or someone who has been like a mother to you\, and the difference she has made in your life. All ages welcome! This event is offered at no cost. \nPlease bring a framed picture of your mother or mother figure to the event. \nA light brunch will be served. \nFor questions email Griefsupport@lightways.org or call 815.460.3295. \nEvent registration is now closed.
URL:https://lightways.org/event/honoring-mom/
LOCATION:Lightways Hospice and Serious Illness Care\, 250 Water Stone Circle\, Joliet\, IL\, 60431\, United States
CATEGORIES:Lightways Events
ATTACH;FMTTYPE=image/png:https://lightways.org/wp-content/uploads/2025/03/Remembering-Mom-Event-Website-Graphic-2026.png
END:VEVENT
END:VCALENDAR