BEGIN:VCALENDAR
VERSION:2.0
PRODID:-//Lightways - ECPv6.15.20//NONSGML v1.0//EN
CALSCALE:GREGORIAN
METHOD:PUBLISH
X-WR-CALNAME:Lightways
X-ORIGINAL-URL:https://lightways.org
X-WR-CALDESC:Events for Lightways
REFRESH-INTERVAL;VALUE=DURATION:PT1H
X-Robots-Tag:noindex
X-PUBLISHED-TTL:PT1H
BEGIN:VTIMEZONE
TZID:UTC
BEGIN:STANDARD
TZOFFSETFROM:+0000
TZOFFSETTO:+0000
TZNAME:UTC
DTSTART:20250101T000000
END:STANDARD
END:VTIMEZONE
BEGIN:VEVENT
DTSTART;TZID=UTC:20260606T080000
DTEND;TZID=UTC:20260606T170000
DTSTAMP:20260424T150408
CREATED:20250314T131444Z
LAST-MODIFIED:20260401T133344Z
UID:10000384-1780732800-1780765200@lightways.org
SUMMARY:Super Heart Family Walk/5K Fun Run and Yoshi’s Mini Dash
DESCRIPTION:It’s-a 5K Time! Let’s-a go!\nLevel up for our loved ones and race to support the Pediatric Care Program of Lightways Hospice and Serious Illness Care. \nCHECK-IN: 8:00-8:45 AM\nSTART TIME: Yoshi’s Mini Dash (13 and under) 8:45 AM | 5k 9:15 AM \n$35 FOR ADULTS (14+); $45 After May 14th*\n$15 FOR CHILDREN (13 and under); $20 After May 14th* \n*Includes entry into the Yoshi’s Mini Dash – Kids must be registered to receive a T-shirt. Children under the age of 3 are FREE to participate (will not receive a T-shirt). \nParticipants registering by May 14th\, will be guaranteed a race T-shirt and goodie bag. First\, second and third place male and female finishers in each age group will receive a medal. All participants in the Yoshi’s Mini Dash will receive a prize. * Specific sized T-shirts and goodie bags are not guaranteed if you register after May 14th. \nREGISTER HERE. \nLearn more and View Sponsorship Opportunities
URL:https://lightways.org/event/family-fun-run-5k/
LOCATION:St. Joseph Catholic School\, 275 E. North Street\, Manhattan\, IL
CATEGORIES:Lightways Events
ATTACH;FMTTYPE=image/png:https://lightways.org/wp-content/uploads/2025/03/2026-5k-Events-Page-Website-Graphic.png
END:VEVENT
END:VCALENDAR