BEGIN:VCALENDAR
VERSION:2.0
PRODID:-//Lightways - ECPv6.15.20//NONSGML v1.0//EN
CALSCALE:GREGORIAN
METHOD:PUBLISH
X-ORIGINAL-URL:https://lightways.org
X-WR-CALDESC:Events for Lightways
REFRESH-INTERVAL;VALUE=DURATION:PT1H
X-Robots-Tag:noindex
X-PUBLISHED-TTL:PT1H
BEGIN:VTIMEZONE
TZID:UTC
BEGIN:STANDARD
TZOFFSETFROM:+0000
TZOFFSETTO:+0000
TZNAME:UTC
DTSTART:20250101T000000
END:STANDARD
END:VTIMEZONE
BEGIN:VEVENT
DTSTART;TZID=UTC:20260325T110000
DTEND;TZID=UTC:20260325T130000
DTSTAMP:20260422T122538
CREATED:20250226T222610Z
LAST-MODIFIED:20260120T001634Z
UID:10000014-1774436400-1774443600@lightways.org
SUMMARY:Welcome Home Vietnam Luncheon
DESCRIPTION:To commemorate the sacrifices of Vietnam Veterans\, we invite you to a special luncheon in recognition of Welcome Home Vietnam Veterans Day. This event is a piece of our effort to offer the long-overdue welcome home they deserve. A presentation from Mark Finnegan about Vets Roll and lunch will be served. \nSpace is limited and registration is required by March 19th\, 2026. \n\n\n                \n                        \n                            Vietnam Veteran Luncheon\n                             \n                        					\n						Δ\n						\n						\n\n					\n                        CommentsThis field is for validation purposes and should be left unchanged.Name(Required)\n                            \n                            \n                                                    \n                                                    First\n                                                \n                            \n                            \n                                                    \n                                                    Last\n                                                \n                            \n                        Address(Required)    \n                    \n                         \n                                        \n                                        Street Address\n                                    \n                                    \n                                    City\n                                 \n                                        \n                                        State\n                                      \n                                    \n                                    ZIP / Postal Code\n                                \n                    \n                Phone(Required)Email(Required)\n                            \n                        Branch(Required)Number attending(Required)CAPTCHA
URL:https://lightways.org/event/welcome-home-vietnam-luncheon/
LOCATION:Morris Hospital YMCA\, 2200 Dupont Ave\,\, Morris\, IL\, 60450
CATEGORIES:Lightways Events,Veterans
ATTACH;FMTTYPE=image/jpeg:https://lightways.org/wp-content/uploads/2025/02/Vietnam-veterans-luncheon.jpg
END:VEVENT
END:VCALENDAR